BEGIN:VCALENDAR
VERSION:2.0
PRODID:-//hacksw/handcal//NONSGML v1.0//EN
BEGIN:VEVENT
SUMMARY:Tournoi de Printemps du Club
UID:b03d029e-7407-47ca-9c2b-014a31609561
DTSTART:20260418T120000Z
DTEND:20260418T170000Z
LOCATION:Localisation Gymnase de la Colline 78100 Saint Germain en Laye
CATEGORIES:Festif
STATUS:
URL;VALUE=URI:https://ttsaintgermainenlaye.sportsregions.fr/evenements/2026/04/18/tournoi-de-printemps-du-club-2433566
END:VEVENT
END:VCALENDAR
